BEGIN:VCALENDAR
BEGIN:VEVENT
DESCRIPTION:\nMore Information: https://tickets.thepicturehouse.org/websales/pages/TicketSearchCriteria.aspx?evtInfo=826098~63061c78-1222-4174-9564-b36b6093280f&\n\nBarbie and Ken are having the time of their lives in the colorful and seemingly perfect world of Barbie Land. However, when they get a chance to go to the real world, they soon discover the joys and perils of living among humans.
DTSTART:20230924T184500Z
DTEND:20230924T203900Z
LOCATION:Bronxville Theater 3, 84 Kraft Avenue, Bronxville, NY, 10708
SUMMARY:Barbie (Bronxville)
UID:826098
DTSTAMP:20260422T184625Z
END:VEVENT
END:VCALENDAR
