BEGIN:VCALENDAR
BEGIN:VEVENT
DESCRIPTION:\nMore Information: https://tickets.thepicturehouse.org/websales/pages/TicketSearchCriteria.aspx?evtInfo=862055~63061c78-1222-4174-9564-b36b6093280f&\n\nFollowing their explosive showdown, Godzilla and Kong must reunite against a colossal undiscovered threat hidden within our world, challenging their very existence – and our own.
DTSTART:20240403T223000Z
DTEND:20240404T002500Z
LOCATION:Bronxville Theater 2, 84 Kraft Avenue, Bronxville, NY, 10708
SUMMARY:Godzilla x Kong: The New Empire (Bronxville)
UID:862055
DTSTAMP:20260420T145544Z
END:VEVENT
END:VCALENDAR
