BEGIN:VCALENDAR
BEGIN:VEVENT
DESCRIPTION:\nMore Information: https://tickets.thepicturehouse.org/websales/pages/TicketSearchCriteria.aspx?evtInfo=863264~63061c78-1222-4174-9564-b36b6093280f&\n\nBritish stockbroker Nicholas Winton visits Czechoslovakia in the 1930s and forms plans to assist in the rescue of Jewish children before the onset of World War II, in an operation that came to be known as the Kindertransport.
DTSTART:20240407T184500Z
DTEND:20240407T203400Z
LOCATION:Bronxville Theater 2, 84 Kraft Avenue, Bronxville, NY, 10708
SUMMARY:One Life (Bronxville)
UID:863264
DTSTAMP:20260424T222523Z
END:VEVENT
END:VCALENDAR
