BEGIN:VCALENDAR
BEGIN:VEVENT
DESCRIPTION:\nMore Information: https://tickets.thepicturehouse.org/websales/pages/TicketSearchCriteria.aspx?evtInfo=863266~63061c78-1222-4174-9564-b36b6093280f&\n\nAlejandro is an aspiring toy designer from El Salvador, struggling to bring his unusual ideas to life in New York City. As time on his work visa runs out, a job assisting an erratic art-world outcast becomes his only hope to stay in the country and realize his dream.
DTSTART:20240407T210000Z
DTEND:20240407T224400Z
LOCATION:Bronxville Theater 2, 84 Kraft Avenue, Bronxville, NY, 10708
SUMMARY:Problemista (Bronxville)
UID:863266
DTSTAMP:20260420T035341Z
END:VEVENT
END:VCALENDAR
